BEGIN:VCALENDAR
VERSION:2.0
PRODID:-//www.zds.si//iCal Event Maker
X-WR-CALNAME:zds.si
CALSCALE:GREGORIAN
BEGIN:VTIMEZONE
TZID:Europe/Ljubljana
TZURL:http://tzurl.org/zoneinfo-outlook/Europe/Ljubljana
X-LIC-LOCATION:Europe/Ljubljana
BEGIN:DAYLIGHT
TZOFFSETFROM:+0100
TZOFFSETTO:+0200
TZNAME:CEST
DTSTART:19700329T020000
RRULE:FREQ=YEARLY;BYMONTH=3;BYDAY=-1SU
END:DAYLIGHT
BEGIN:STANDARD
TZOFFSETFROM:+0200
TZOFFSETTO:+0100
TZNAME:CET
DTSTART:19701025T030000
RRULE:FREQ=YEARLY;BYMONTH=10;BYDAY=-1SU
END:STANDARD
END:VTIMEZONE
BEGIN:VEVENT
DTSTAMP:20260422T201233
UID:69e90f919920d@zds.si
DTSTART;TZID="Europe/Ljubljana":20231122T090000
DTEND;TZID="Europe/Ljubljana":20231122T101500
SUMMARY:WEBINAR: Zdravstveni vidiki mobilnosti zaposlenih
URL:https://www.zds.si/sl/dogodki/webinar-zdravstveni-vidiki-mobilnosti-zaposlenih/
DESCRIPTION:Brezplačno izobraževanje v okviru projekta SmartMOVE.

S spodbujanjem aktivnega prihoda na delo in ozaveščanjem o škodljivosti sedečega življenjskega sloga lahko občutno pripomoremo k splošnemu zdravju zaposlenih. Aktivni prihodi na delo (hoja, kolesarjenje) manjšajo povprečno letno bolniško odsotnost in večajo splošno zadovoljstvo zaposlenih. Na izobraževanju bodo predstavljena trenutna spoznanja vpliva trajnostne mobilnosti na zdravje zaposlenih ter učinkoviti pristopi za spodbujanje zdravja v podjetjih in ustanovah.
LOCATION:WEBINAR 💻
BEGIN:VALARM
TRIGGER:-PT4H
REPEAT:1
DURATION:PT15M
ACTION:DISPLAY
DESCRIPTION:Reminder
END:VALARM
END:VEVENT
END:VCALENDAR