BEGIN:VCALENDAR
VERSION:2.0
PRODID:-//www.zds.si//iCal Event Maker
X-WR-CALNAME:zds.si
CALSCALE:GREGORIAN
BEGIN:VTIMEZONE
TZID:Europe/Ljubljana
TZURL:http://tzurl.org/zoneinfo-outlook/Europe/Ljubljana
X-LIC-LOCATION:Europe/Ljubljana
BEGIN:DAYLIGHT
TZOFFSETFROM:+0100
TZOFFSETTO:+0200
TZNAME:CEST
DTSTART:19700329T020000
RRULE:FREQ=YEARLY;BYMONTH=3;BYDAY=-1SU
END:DAYLIGHT
BEGIN:STANDARD
TZOFFSETFROM:+0200
TZOFFSETTO:+0100
TZNAME:CET
DTSTART:19701025T030000
RRULE:FREQ=YEARLY;BYMONTH=10;BYDAY=-1SU
END:STANDARD
END:VTIMEZONE
BEGIN:VEVENT
DTSTAMP:20260422T201004
UID:69e90efc880c1@zds.si
DTSTART;TZID="Europe/Ljubljana":20231025T090000
DTEND;TZID="Europe/Ljubljana":20231025T101500
SUMMARY:WEBINAR: Upravljanje parkiranja in optimizirana raba avtomobila
URL:https://www.zds.si/sl/dogodki/webinar-upravljanje-parkiranja-in-optimizirana-raba-avtomobila/
DESCRIPTION:Brezplačno izobraževanje v okviru projekta SmartMOVE.

Zaradi pogostega primanjkljaja parkirnih mest v primerjavi s številom avtomobilov predstavlja upravljanje parkiranja oziroma parkirišč enega izmed ključnih ukrepov za spreminjanje potovalnih navad zaposlenih. Na izobraževanju bodo predstavljeni raznoliki ukrepi vezani na upravljanje parkiranja oziroma parkirišč, celovito naslavljanje  optimizirane rabe avtomobila ter inovativne rešitve na področju trajnostne mobilnosti zaposlenih.
LOCATION:WEBINAR 💻
BEGIN:VALARM
TRIGGER:-PT4H
REPEAT:1
DURATION:PT15M
ACTION:DISPLAY
DESCRIPTION:Reminder
END:VALARM
END:VEVENT
END:VCALENDAR