BEGIN:VCALENDAR
VERSION:2.0
PRODID:-//www.zds.si//iCal Event Maker
X-WR-CALNAME:zds.si
CALSCALE:GREGORIAN
BEGIN:VTIMEZONE
TZID:Europe/Ljubljana
TZURL:http://tzurl.org/zoneinfo-outlook/Europe/Ljubljana
X-LIC-LOCATION:Europe/Ljubljana
BEGIN:DAYLIGHT
TZOFFSETFROM:+0100
TZOFFSETTO:+0200
TZNAME:CEST
DTSTART:19700329T020000
RRULE:FREQ=YEARLY;BYMONTH=3;BYDAY=-1SU
END:DAYLIGHT
BEGIN:STANDARD
TZOFFSETFROM:+0200
TZOFFSETTO:+0100
TZNAME:CET
DTSTART:19701025T030000
RRULE:FREQ=YEARLY;BYMONTH=10;BYDAY=-1SU
END:STANDARD
END:VTIMEZONE
BEGIN:VEVENT
DTSTAMP:20260426T062046
UID:69ed929e38b69@zds.si
DTSTART;TZID="Europe/Ljubljana":20231214T090000
DTEND;TZID="Europe/Ljubljana":20231214T110000
SUMMARY:WEBINAR: Kaj morajo delodajalci vedeti o novih spremembah ZDR-1?
URL:https://www.zds.si/sl/dogodki/webinar-kaj-morajo-delodajalci-vedeti-o-novih-spremembah-zdr-5/
DESCRIPTION:7.11.2023 je DZ RS sprejel Zakon o spremembah in dopolnitvah Zakona o delovnih razmerjih (ZDR-1D), ki bo začel veljati naslednji dan po objavi v Uradnem listu RS, z izjemo nekaterih členov. 
LOCATION:WEBINAR 💻
BEGIN:VALARM
TRIGGER:-PT4H
REPEAT:1
DURATION:PT15M
ACTION:DISPLAY
DESCRIPTION:Reminder
END:VALARM
END:VEVENT
END:VCALENDAR