BEGIN:VCALENDAR
VERSION:2.0
PRODID:-//www.zds.si//iCal Event Maker
X-WR-CALNAME:zds.si
CALSCALE:GREGORIAN
BEGIN:VTIMEZONE
TZID:Europe/Ljubljana
TZURL:http://tzurl.org/zoneinfo-outlook/Europe/Ljubljana
X-LIC-LOCATION:Europe/Ljubljana
BEGIN:DAYLIGHT
TZOFFSETFROM:+0100
TZOFFSETTO:+0200
TZNAME:CEST
DTSTART:19700329T020000
RRULE:FREQ=YEARLY;BYMONTH=3;BYDAY=-1SU
END:DAYLIGHT
BEGIN:STANDARD
TZOFFSETFROM:+0200
TZOFFSETTO:+0100
TZNAME:CET
DTSTART:19701025T030000
RRULE:FREQ=YEARLY;BYMONTH=10;BYDAY=-1SU
END:STANDARD
END:VTIMEZONE
BEGIN:VEVENT
DTSTAMP:20260425T031550
UID:69ec15c6df12c@zds.si
DTSTART;TZID="Europe/Ljubljana":20260212T090000
DTEND;TZID="Europe/Ljubljana":20260212T110000
SUMMARY:Spremembe pokojninskega sistema. Kaj uvaja novela ZPIZ-2O.
URL:https://www.zds.si/sl/dogodki/spremembe-pokojninskega-sistema-kaj-uvaja-novela-zpiz-2o/
DESCRIPTION:S 1. januarjem 2026 se je začela uporabljati novela ZPIZ-2O, ki spreminja pravila upokojevanja in izračuna pokojnin. Spremembe se uvajajo postopno in vplivajo na pogoje za starostno in predčasno upokojitev ter na vrednotenje pokojninske dobe. Na seminarju bodo predstavljene vse bistvene novosti in njihov pomen za delodajalce.
LOCATION:WEBINAR
BEGIN:VALARM
TRIGGER:-PT4H
REPEAT:1
DURATION:PT15M
ACTION:DISPLAY
DESCRIPTION:Reminder
END:VALARM
END:VEVENT
END:VCALENDAR