BEGIN:VCALENDAR
VERSION:2.0
PRODID:-//www.zds.si//iCal Event Maker
X-WR-CALNAME:zds.si
CALSCALE:GREGORIAN
BEGIN:VTIMEZONE
TZID:Europe/Ljubljana
TZURL:http://tzurl.org/zoneinfo-outlook/Europe/Ljubljana
X-LIC-LOCATION:Europe/Ljubljana
BEGIN:DAYLIGHT
TZOFFSETFROM:+0100
TZOFFSETTO:+0200
TZNAME:CEST
DTSTART:19700329T020000
RRULE:FREQ=YEARLY;BYMONTH=3;BYDAY=-1SU
END:DAYLIGHT
BEGIN:STANDARD
TZOFFSETFROM:+0200
TZOFFSETTO:+0100
TZNAME:CET
DTSTART:19701025T030000
RRULE:FREQ=YEARLY;BYMONTH=10;BYDAY=-1SU
END:STANDARD
END:VTIMEZONE
BEGIN:VEVENT
DTSTAMP:20260421T173042
UID:69e798223b6fe@zds.si
DTSTART;TZID="Europe/Ljubljana":20210420T093000
DTEND;TZID="Europe/Ljubljana":20210420T120000
SUMMARY:Spletna konferenca: Varnost, zdravje, delo - skupna skrb delodajalca in delavca s primeri dobrih praks
URL:https://www.zds.si/sl/dogodki/spletna-konferenca-varnost-zdravje-delo-skupna-skrb-delodajalca-in-delavca-s-primeri-dobrih-praks/
DESCRIPTION:Vabljeni na strokovno spletno konferenco v okviru projekta e-VZD.
LOCATION:Spletna konferenca
BEGIN:VALARM
TRIGGER:-PT4H
REPEAT:1
DURATION:PT15M
ACTION:DISPLAY
DESCRIPTION:Reminder
END:VALARM
END:VEVENT
END:VCALENDAR