BEGIN:VCALENDAR
VERSION:2.0
PRODID:-//www.zds.si//iCal Event Maker
X-WR-CALNAME:zds.si
CALSCALE:GREGORIAN
BEGIN:VTIMEZONE
TZID:Europe/Ljubljana
TZURL:http://tzurl.org/zoneinfo-outlook/Europe/Ljubljana
X-LIC-LOCATION:Europe/Ljubljana
BEGIN:DAYLIGHT
TZOFFSETFROM:+0100
TZOFFSETTO:+0200
TZNAME:CEST
DTSTART:19700329T020000
RRULE:FREQ=YEARLY;BYMONTH=3;BYDAY=-1SU
END:DAYLIGHT
BEGIN:STANDARD
TZOFFSETFROM:+0200
TZOFFSETTO:+0100
TZNAME:CET
DTSTART:19701025T030000
RRULE:FREQ=YEARLY;BYMONTH=10;BYDAY=-1SU
END:STANDARD
END:VTIMEZONE
BEGIN:VEVENT
DTSTAMP:20260420T053208
UID:69e59e38bd3a2@zds.si
DTSTART;TZID="Europe/Ljubljana":20210616T093000
DTEND;TZID="Europe/Ljubljana":20210616T120000
SUMMARY:Skrbna podjetja – delodajalci kot akterji pozitivnih sprememb
URL:https://www.zds.si/sl/dogodki/skrbna-podjetja-delodajalci-kot-akterji-pozitivnih-sprememb/
DESCRIPTION:Vabimo vas na posvet in izmenjavo dobrih praks.
LOCATION:Spletni dogodek preko platforme Zoom.
BEGIN:VALARM
TRIGGER:-PT4H
REPEAT:1
DURATION:PT15M
ACTION:DISPLAY
DESCRIPTION:Reminder
END:VALARM
END:VEVENT
END:VCALENDAR