BEGIN:VCALENDAR
VERSION:2.0
PRODID:-//www.zds.si//iCal Event Maker
X-WR-CALNAME:zds.si
CALSCALE:GREGORIAN
BEGIN:VTIMEZONE
TZID:Europe/Ljubljana
TZURL:http://tzurl.org/zoneinfo-outlook/Europe/Ljubljana
X-LIC-LOCATION:Europe/Ljubljana
BEGIN:DAYLIGHT
TZOFFSETFROM:+0100
TZOFFSETTO:+0200
TZNAME:CEST
DTSTART:19700329T020000
RRULE:FREQ=YEARLY;BYMONTH=3;BYDAY=-1SU
END:DAYLIGHT
BEGIN:STANDARD
TZOFFSETFROM:+0200
TZOFFSETTO:+0100
TZNAME:CET
DTSTART:19701025T030000
RRULE:FREQ=YEARLY;BYMONTH=10;BYDAY=-1SU
END:STANDARD
END:VTIMEZONE
BEGIN:VEVENT
DTSTAMP:20260422T104250
UID:69e88a0a862e3@zds.si
DTSTART;TZID="Europe/Ljubljana":20250827T090000
DTEND;TZID="Europe/Ljubljana":20250827T120000
SUMMARY:Pravila delovnega časa v praksi
URL:https://www.zds.si/sl/dogodki/pravila-delovnega-casa-v-praksi/
DESCRIPTION:Na webinarju bomo podrobno preučili različne vidike delovnega časa, vključno z zakonodajnimi zahtevami, internimi akti, različnimi razporeditvami delovnega časa ter prednostmi in slabostmi vsake od njih. Posebno pozornost bomo namenili spremembam, ki jih prinaša ZDR-1D na področju razporeditve delovnega časa, in kako te spremembe vplivajo na delodajalce in delavce. 
-10% popusta za prijave do 26.8.2025❗
LOCATION:WEBINAR 💻
BEGIN:VALARM
TRIGGER:-PT4H
REPEAT:1
DURATION:PT15M
ACTION:DISPLAY
DESCRIPTION:Reminder
END:VALARM
END:VEVENT
END:VCALENDAR