BEGIN:VCALENDAR
VERSION:2.0
PRODID:-//www.zds.si//iCal Event Maker
X-WR-CALNAME:zds.si
CALSCALE:GREGORIAN
BEGIN:VTIMEZONE
TZID:Europe/Ljubljana
TZURL:http://tzurl.org/zoneinfo-outlook/Europe/Ljubljana
X-LIC-LOCATION:Europe/Ljubljana
BEGIN:DAYLIGHT
TZOFFSETFROM:+0100
TZOFFSETTO:+0200
TZNAME:CEST
DTSTART:19700329T020000
RRULE:FREQ=YEARLY;BYMONTH=3;BYDAY=-1SU
END:DAYLIGHT
BEGIN:STANDARD
TZOFFSETFROM:+0200
TZOFFSETTO:+0100
TZNAME:CET
DTSTART:19701025T030000
RRULE:FREQ=YEARLY;BYMONTH=10;BYDAY=-1SU
END:STANDARD
END:VTIMEZONE
BEGIN:VEVENT
DTSTAMP:20260421T100834
UID:69e730829d69e@zds.si
DTSTART;TZID="Europe/Ljubljana":20250507T090000
DTEND;TZID="Europe/Ljubljana":20250507T130000
SUMMARY:POREKLO BLAGA 🗺 – zakonodaja, pravila, novosti in pričakovanja
URL:https://www.zds.si/sl/dogodki/poreklo-blaga-zakonodaja-pravila-novosti-in-pricakovanja-6/
DESCRIPTION: Na seminarju bomo udeležence seznanili s pravili o poreklu blaga, novostmi na področju porekla blaga ter predstavili več primerov iz prakse. Poudarek bo na začetku uporabe PEM prehodnih pravil o poreklu - vzporedna uporaba dveh sklopov pravil o poreklu blaga  – ter na pogojih za pridobitev porekla.
Dobre primere iz prakse vam bo predstavila vrhunska strokovnjakinja na področju porekla blaga 🗺
LOCATION:ZDS, predavalnica - Visoko pritličje, Dimičeva 9, 1000 Ljubljana 
BEGIN:VALARM
TRIGGER:-PT4H
REPEAT:1
DURATION:PT15M
ACTION:DISPLAY
DESCRIPTION:Reminder
END:VALARM
END:VEVENT
END:VCALENDAR