BEGIN:VCALENDAR
VERSION:2.0
PRODID:-//www.zds.si//iCal Event Maker
X-WR-CALNAME:zds.si
CALSCALE:GREGORIAN
BEGIN:VTIMEZONE
TZID:Europe/Ljubljana
TZURL:http://tzurl.org/zoneinfo-outlook/Europe/Ljubljana
X-LIC-LOCATION:Europe/Ljubljana
BEGIN:DAYLIGHT
TZOFFSETFROM:+0100
TZOFFSETTO:+0200
TZNAME:CEST
DTSTART:19700329T020000
RRULE:FREQ=YEARLY;BYMONTH=3;BYDAY=-1SU
END:DAYLIGHT
BEGIN:STANDARD
TZOFFSETFROM:+0200
TZOFFSETTO:+0100
TZNAME:CET
DTSTART:19701025T030000
RRULE:FREQ=YEARLY;BYMONTH=10;BYDAY=-1SU
END:STANDARD
END:VTIMEZONE
BEGIN:VEVENT
DTSTAMP:20260421T102731
UID:69e734f3c5301@zds.si
DTSTART;TZID="Europe/Ljubljana":20250604T090000
DTEND;TZID="Europe/Ljubljana":20250604T113000
SUMMARY:Pogoste dileme pri uvozu in izvozu ter mednarodnem poslovanju  
URL:https://www.zds.si/sl/dogodki/pogoste-dileme-pri-uvozu-in-izvozu-ter-mednarodnem-poslovanju/
DESCRIPTION:Webinar je namenjen vsem, ki se pri poslovanju srečujejo z vprašanji glede pravilne obdavčitve uvoza, izvoza in mednarodnih storitev. Udeleženci bodo na konkretnih primerih spoznali, kako določiti kraj obdavčitve, pravilno evidentirati račune in se izogniti pogostim napakam. Dogodek vključuje tudi odgovore na vprašanja iz prakse.
LOCATION:WEBINAR 💻
BEGIN:VALARM
TRIGGER:-PT4H
REPEAT:1
DURATION:PT15M
ACTION:DISPLAY
DESCRIPTION:Reminder
END:VALARM
END:VEVENT
END:VCALENDAR