BEGIN:VCALENDAR
VERSION:2.0
PRODID:-//www.zds.si//iCal Event Maker
X-WR-CALNAME:zds.si
CALSCALE:GREGORIAN
BEGIN:VTIMEZONE
TZID:Europe/Ljubljana
TZURL:http://tzurl.org/zoneinfo-outlook/Europe/Ljubljana
X-LIC-LOCATION:Europe/Ljubljana
BEGIN:DAYLIGHT
TZOFFSETFROM:+0100
TZOFFSETTO:+0200
TZNAME:CEST
DTSTART:19700329T020000
RRULE:FREQ=YEARLY;BYMONTH=3;BYDAY=-1SU
END:DAYLIGHT
BEGIN:STANDARD
TZOFFSETFROM:+0200
TZOFFSETTO:+0100
TZNAME:CET
DTSTART:19701025T030000
RRULE:FREQ=YEARLY;BYMONTH=10;BYDAY=-1SU
END:STANDARD
END:VTIMEZONE
BEGIN:VEVENT
DTSTAMP:20260420T102042
UID:69e5e1da51317@zds.si
DTSTART;TZID="Europe/Ljubljana":20250717T090000
DTEND;TZID="Europe/Ljubljana":20250717T110000
SUMMARY:Obdavčitev dohodkov s predstavitvijo prispevka za dolgotrajno oskrbo
URL:https://www.zds.si/sl/dogodki/obdavcitev-dohodkov-s-predstavitvijo-prispevka-za-dolgotrajno-oskrbo/
DESCRIPTION:Priprava na nov prispevek za dolgotrajno oskrbo: Spoznajte, kdo so zavarovanci in zavezanci za plačilo ter od katerih osnov se prispevek obračunava – vse to že od 1. julija 2025 dalje.
Kakšne so davčne olajšave v letu 2025?
Praktični primeri in posebnosti.
LOCATION:WEBINAR 💻
BEGIN:VALARM
TRIGGER:-PT4H
REPEAT:1
DURATION:PT15M
ACTION:DISPLAY
DESCRIPTION:Reminder
END:VALARM
END:VEVENT
END:VCALENDAR