BEGIN:VCALENDAR
VERSION:2.0
PRODID:-//www.zds.si//iCal Event Maker
X-WR-CALNAME:zds.si
CALSCALE:GREGORIAN
BEGIN:VTIMEZONE
TZID:Europe/Ljubljana
TZURL:http://tzurl.org/zoneinfo-outlook/Europe/Ljubljana
X-LIC-LOCATION:Europe/Ljubljana
BEGIN:DAYLIGHT
TZOFFSETFROM:+0100
TZOFFSETTO:+0200
TZNAME:CEST
DTSTART:19700329T020000
RRULE:FREQ=YEARLY;BYMONTH=3;BYDAY=-1SU
END:DAYLIGHT
BEGIN:STANDARD
TZOFFSETFROM:+0200
TZOFFSETTO:+0100
TZNAME:CET
DTSTART:19701025T030000
RRULE:FREQ=YEARLY;BYMONTH=10;BYDAY=-1SU
END:STANDARD
END:VTIMEZONE
BEGIN:VEVENT
DTSTAMP:20260422T103658
UID:69e888aa85035@zds.si
DTSTART;TZID="Europe/Ljubljana":20250902T090000
DTEND;TZID="Europe/Ljubljana":20250902T103000
SUMMARY:Obdavčitev dohodkov s predstavitvijo prispevka za dolgotrajno oskrbo
URL:https://www.zds.si/sl/dogodki/obdavcitev-dohodkov-s-predstavitvijo-prispevka-za-dolgotrajno-oskrbo-2/
DESCRIPTION:Na webinarju bodo predstavljene novosti glede obračuna in plačila prispevka za dolgotrajno oskrbo, ki jih določa novi zakon (ZDOsk-1). Poudarek bo na pravilih obveznosti prispevkov pri izplačilih različnih vrst dohodkov iz delovnega razmerja ter drugih pravnih razmerij, vključno s študentskim delom. Udeleženci bodo spoznali tudi obveznosti za samostojne podjetnike, kmete, družbenike ter zaposlene pri tujih delodajalcih.
-10% popusta za zgodnje prijave do 2.9.2025❗
LOCATION:WEBINAR 💻
BEGIN:VALARM
TRIGGER:-PT4H
REPEAT:1
DURATION:PT15M
ACTION:DISPLAY
DESCRIPTION:Reminder
END:VALARM
END:VEVENT
END:VCALENDAR