BEGIN:VCALENDAR
VERSION:2.0
PRODID:-//www.zds.si//iCal Event Maker
X-WR-CALNAME:zds.si
CALSCALE:GREGORIAN
BEGIN:VTIMEZONE
TZID:Europe/Ljubljana
TZURL:http://tzurl.org/zoneinfo-outlook/Europe/Ljubljana
X-LIC-LOCATION:Europe/Ljubljana
BEGIN:DAYLIGHT
TZOFFSETFROM:+0100
TZOFFSETTO:+0200
TZNAME:CEST
DTSTART:19700329T020000
RRULE:FREQ=YEARLY;BYMONTH=3;BYDAY=-1SU
END:DAYLIGHT
BEGIN:STANDARD
TZOFFSETFROM:+0200
TZOFFSETTO:+0100
TZNAME:CET
DTSTART:19701025T030000
RRULE:FREQ=YEARLY;BYMONTH=10;BYDAY=-1SU
END:STANDARD
END:VTIMEZONE
BEGIN:VEVENT
DTSTAMP:20260421T095708
UID:69e72dd45f944@zds.si
DTSTART;TZID="Europe/Ljubljana":20251113T090000
DTEND;TZID="Europe/Ljubljana":20251113T103000
SUMMARY:Novosti na trgu dela po noveli ZUTD-I
URL:https://www.zds.si/sl/dogodki/novosti-na-trgu-dela-po-noveli-zutd-i-2/
DESCRIPTION:Novela Zakona o urejanju trga dela (ZUTD-I) prinaša pomembne spremembe za delodajalce in zaposlene. Posebej se bomo dotaknili področja Outsourcinga oziroma zunanje izvajanje dela, kjer zakon uvaja nove omejitve in obveznosti. Na strokovnem predavanju boste izvedeli, katere novosti prinaša zakon in kako jih uspešno vključiti v prakso.
LOCATION:WEBINAR 💻
BEGIN:VALARM
TRIGGER:-PT4H
REPEAT:1
DURATION:PT15M
ACTION:DISPLAY
DESCRIPTION:Reminder
END:VALARM
END:VEVENT
END:VCALENDAR