BEGIN:VCALENDAR
VERSION:2.0
PRODID:-//www.zds.si//iCal Event Maker
X-WR-CALNAME:zds.si
CALSCALE:GREGORIAN
BEGIN:VTIMEZONE
TZID:Europe/Ljubljana
TZURL:http://tzurl.org/zoneinfo-outlook/Europe/Ljubljana
X-LIC-LOCATION:Europe/Ljubljana
BEGIN:DAYLIGHT
TZOFFSETFROM:+0100
TZOFFSETTO:+0200
TZNAME:CEST
DTSTART:19700329T020000
RRULE:FREQ=YEARLY;BYMONTH=3;BYDAY=-1SU
END:DAYLIGHT
BEGIN:STANDARD
TZOFFSETFROM:+0200
TZOFFSETTO:+0100
TZNAME:CET
DTSTART:19701025T030000
RRULE:FREQ=YEARLY;BYMONTH=10;BYDAY=-1SU
END:STANDARD
END:VTIMEZONE
BEGIN:VEVENT
DTSTAMP:20260420T102405
UID:69e5e2a59493f@zds.si
DTSTART;TZID="Europe/Ljubljana":20250909T090000
DTEND;TZID="Europe/Ljubljana":20250909T123000
SUMMARY:Ko je promocija zdravja pri delu več kot le gajba jabolk 🍎
URL:https://www.zds.si/sl/dogodki/ko-je-promocija-zdravja-pri-delu-vec-kot-le-gajba-jabolk/
DESCRIPTION:Kako pripraviti ustrezen program promocije zdravja pri delu?
Kako analizirati zdravje vaših zaposlenih s pomočjo kazalnikov bolniške odsotnosti, kako določiti ustrezno področje ukrepanja in kako pripraviti program promocije zdravja pri delu tako, da bo ta presegal zgolj simbolične geste.
LOCATION:WEBINAR 💻
BEGIN:VALARM
TRIGGER:-PT4H
REPEAT:1
DURATION:PT15M
ACTION:DISPLAY
DESCRIPTION:Reminder
END:VALARM
END:VEVENT
END:VCALENDAR