BEGIN:VCALENDAR
VERSION:2.0
PRODID:-//www.zds.si//iCal Event Maker
X-WR-CALNAME:zds.si
CALSCALE:GREGORIAN
BEGIN:VTIMEZONE
TZID:Europe/Ljubljana
TZURL:http://tzurl.org/zoneinfo-outlook/Europe/Ljubljana
X-LIC-LOCATION:Europe/Ljubljana
BEGIN:DAYLIGHT
TZOFFSETFROM:+0100
TZOFFSETTO:+0200
TZNAME:CEST
DTSTART:19700329T020000
RRULE:FREQ=YEARLY;BYMONTH=3;BYDAY=-1SU
END:DAYLIGHT
BEGIN:STANDARD
TZOFFSETFROM:+0200
TZOFFSETTO:+0100
TZNAME:CET
DTSTART:19701025T030000
RRULE:FREQ=YEARLY;BYMONTH=10;BYDAY=-1SU
END:STANDARD
END:VTIMEZONE
BEGIN:VEVENT
DTSTAMP:20260421T110453
UID:69e73db5a193f@zds.si
DTSTART;TZID="Europe/Ljubljana":20260317T090000
DTEND;TZID="Europe/Ljubljana":20260317T103000
SUMMARY:Kako v 8 sekundah pritegniti prave kandidate s sodobnimi digitalnimi metodami
URL:https://www.zds.si/sl/dogodki/kako-v-8-sekundah-pritegniti-prave-kandidate-s-sodobnimi-digitalnimi-metodami/
DESCRIPTION:Na brezplačni delavnici boste spoznali, zakaj klasični zaposlitveni pristopi ne dosegajo več pasivnih kandidatov in kako se je njihovo vedenje spremenilo.
Razumeli boste psihologijo pozornosti v digitalnem okolju ter prejeli konkretne pristope za oglase, vizuale in mobilne prijave, ki povečajo odziv.
Odšli boste z jasnimi usmeritvami za izboljšanje izkušnje kandidata ter z idejami za uporabo algoritmov in umetne inteligence pri zaposlovanju.
LOCATION:ZDS, predavalnica - Visoko pritličje, Dimičeva 9, 1000 Ljubljana
BEGIN:VALARM
TRIGGER:-PT4H
REPEAT:1
DURATION:PT15M
ACTION:DISPLAY
DESCRIPTION:Reminder
END:VALARM
END:VEVENT
END:VCALENDAR