BEGIN:VCALENDAR
VERSION:2.0
PRODID:-//www.zds.si//iCal Event Maker
X-WR-CALNAME:zds.si
CALSCALE:GREGORIAN
BEGIN:VTIMEZONE
TZID:Europe/Ljubljana
TZURL:http://tzurl.org/zoneinfo-outlook/Europe/Ljubljana
X-LIC-LOCATION:Europe/Ljubljana
BEGIN:DAYLIGHT
TZOFFSETFROM:+0100
TZOFFSETTO:+0200
TZNAME:CEST
DTSTART:19700329T020000
RRULE:FREQ=YEARLY;BYMONTH=3;BYDAY=-1SU
END:DAYLIGHT
BEGIN:STANDARD
TZOFFSETFROM:+0200
TZOFFSETTO:+0100
TZNAME:CET
DTSTART:19701025T030000
RRULE:FREQ=YEARLY;BYMONTH=10;BYDAY=-1SU
END:STANDARD
END:VTIMEZONE
BEGIN:VEVENT
DTSTAMP:20260420T102301
UID:69e5e26563f69@zds.si
DTSTART;TZID="Europe/Ljubljana":20250917T090000
DTEND;TZID="Europe/Ljubljana":20250917T120000
SUMMARY:Kako izpeljati učinkovit selekcijski postopek in nadaljnjo umestitev kandidata v našo organizacijo. 
URL:https://www.zds.si/sl/dogodki/kako-izpeljati-ucinkovit-selekcijski-postopek-in-nadaljnjo-umestitev-kandidata-v-naso-organizacijo/
DESCRIPTION:🔹 Webinar ponuja celovit vpogled v ključne faze zaposlitvenega procesa: preboarding, onboarding in offboarding.
🔹 Udeleženci bodo spoznali vloge vseh akterjev ter pridobili znanje za pripravo privlačnih objav, učinkovite selekcije in smiselnega uvajanja in zaključevanja delovnega razmerja.
🔹 Cilj je oblikovanje zakonitega in kandidatom prijaznega kadrovskega procesa, ki spodbuja dolgoročno uspešnost in zadovoljstvo zaposlenih.
LOCATION:WEBINAR 💻
BEGIN:VALARM
TRIGGER:-PT4H
REPEAT:1
DURATION:PT15M
ACTION:DISPLAY
DESCRIPTION:Reminder
END:VALARM
END:VEVENT
END:VCALENDAR