BEGIN:VCALENDAR
VERSION:2.0
PRODID:-//www.zds.si//iCal Event Maker
X-WR-CALNAME:zds.si
CALSCALE:GREGORIAN
BEGIN:VTIMEZONE
TZID:Europe/Ljubljana
TZURL:http://tzurl.org/zoneinfo-outlook/Europe/Ljubljana
X-LIC-LOCATION:Europe/Ljubljana
BEGIN:DAYLIGHT
TZOFFSETFROM:+0100
TZOFFSETTO:+0200
TZNAME:CEST
DTSTART:19700329T020000
RRULE:FREQ=YEARLY;BYMONTH=3;BYDAY=-1SU
END:DAYLIGHT
BEGIN:STANDARD
TZOFFSETFROM:+0200
TZOFFSETTO:+0100
TZNAME:CET
DTSTART:19701025T030000
RRULE:FREQ=YEARLY;BYMONTH=10;BYDAY=-1SU
END:STANDARD
END:VTIMEZONE
BEGIN:VEVENT
DTSTAMP:20260421T112140
UID:69e741a4a2b04@zds.si
DTSTART;TZID="Europe/Ljubljana":20260312T090000
DTEND;TZID="Europe/Ljubljana":20260312T110000
SUMMARY:Izdelava obveznih poročil o odpadkih do 31.3.2026
URL:https://www.zds.si/sl/dogodki/izdelava-obveznih-porocil-o-odpadkih-do-2026/
DESCRIPTION:Spoznajte zakonodajne novosti glede ravnanja z odpadki, vključno z zahtevami nove Uredbe o odpadkih in spremembami v Zakonu o varstvu okolja (ZVO-2). Bistvene novosti, ki jih bo prinesla nova Uredba o embalaži in odpadni embalaži . Poseben poudarek bo na pripravi letnega poročila o odpadkih za izvirne povzročitelje ter na uporabi aplikacije IS odpadki, ki bo od letos edini način poročanja. Naučili se boste tudi, kako pravilno ločevati, označevati in evidentirati odpadke v skladu z novimi predpisi.
LOCATION:WEBINAR 💻
BEGIN:VALARM
TRIGGER:-PT4H
REPEAT:1
DURATION:PT15M
ACTION:DISPLAY
DESCRIPTION:Reminder
END:VALARM
END:VEVENT
END:VCALENDAR