BEGIN:VCALENDAR
VERSION:2.0
PRODID:-//www.zds.si//iCal Event Maker
X-WR-CALNAME:zds.si
CALSCALE:GREGORIAN
BEGIN:VTIMEZONE
TZID:Europe/Ljubljana
TZURL:http://tzurl.org/zoneinfo-outlook/Europe/Ljubljana
X-LIC-LOCATION:Europe/Ljubljana
BEGIN:DAYLIGHT
TZOFFSETFROM:+0100
TZOFFSETTO:+0200
TZNAME:CEST
DTSTART:19700329T020000
RRULE:FREQ=YEARLY;BYMONTH=3;BYDAY=-1SU
END:DAYLIGHT
BEGIN:STANDARD
TZOFFSETFROM:+0200
TZOFFSETTO:+0100
TZNAME:CET
DTSTART:19701025T030000
RRULE:FREQ=YEARLY;BYMONTH=10;BYDAY=-1SU
END:STANDARD
END:VTIMEZONE
BEGIN:VEVENT
DTSTAMP:20260420T070736
UID:69e5b4983cc52@zds.si
DTSTART;TZID="Europe/Ljubljana":20260309T100000
DTEND;TZID="Europe/Ljubljana":20260309T120000
SUMMARY:Direktiva EU o preglednosti plačil: Ključne zahteve Direktive in kako se lahko delodajalci pripravijo na njene zahteve?
URL:https://www.zds.si/sl/dogodki/direktiva-eu-o-preglednosti-placil/
DESCRIPTION:Združenje delodajalcev Slovenije bo na zaključnem dogodku projekta Grow obravnavalo Direktivo EU 2023/970 o preglednosti plačil in njen prenos v slovenski pravni red. Predstavnika ZDS bosta predstavila ključne zahteve direktive ter pričakovane zakonodajne rešitve, ki jih prinaša nov zakon. Zunanja strokovnjaka bosta prikazala konkretne korake, s katerimi se podjetja na nove obveznosti pripravijo že pred sprejemom zakonodaje.
LOCATION:CPU – dvorana Sava, Kardeljeva ploščad 27a, 1000 LJUBLJANA
BEGIN:VALARM
TRIGGER:-PT4H
REPEAT:1
DURATION:PT15M
ACTION:DISPLAY
DESCRIPTION:Reminder
END:VALARM
END:VEVENT
END:VCALENDAR