BEGIN:VCALENDAR
VERSION:2.0
PRODID:-//www.zds.si//iCal Event Maker
X-WR-CALNAME:zds.si
CALSCALE:GREGORIAN
BEGIN:VTIMEZONE
TZID:Europe/Ljubljana
TZURL:http://tzurl.org/zoneinfo-outlook/Europe/Ljubljana
X-LIC-LOCATION:Europe/Ljubljana
BEGIN:DAYLIGHT
TZOFFSETFROM:+0100
TZOFFSETTO:+0200
TZNAME:CEST
DTSTART:19700329T020000
RRULE:FREQ=YEARLY;BYMONTH=3;BYDAY=-1SU
END:DAYLIGHT
BEGIN:STANDARD
TZOFFSETFROM:+0200
TZOFFSETTO:+0100
TZNAME:CET
DTSTART:19701025T030000
RRULE:FREQ=YEARLY;BYMONTH=10;BYDAY=-1SU
END:STANDARD
END:VTIMEZONE
BEGIN:VEVENT
DTSTAMP:20260421T095810
UID:69e72e12521f9@zds.si
DTSTART;TZID="Europe/Ljubljana":20251022T100000
DTEND;TZID="Europe/Ljubljana":20251022T113000
SUMMARY:Digitalna varnost: Ključne prakse za uporabnike brez tehničnega ozadja
URL:https://www.zds.si/sl/dogodki/digitalna-varnost-kljucne-prakse-za-uporabnike-brez-tehnicnega-ozadja/
DESCRIPTION:V digitalnem svetu se nevarnosti skrivajo na vsakem koraku – od spletnih prevar do kraje osebnih podatkov. Na seminarju bomo na razumljiv in praktičen način predstavili, kako prepoznati najpogostejše oblike spletnih prevar, varno uporabljati e-pošto in splet ter učinkovito upravljati gesla. Program je namenjen vsem zaposlenim brez tehničnega ozadja, ki želijo z osnovnimi, a ključnimi ukrepi zmanjšati tveganje za varnostne incidente
LOCATION:WEBINAR 💻
BEGIN:VALARM
TRIGGER:-PT4H
REPEAT:1
DURATION:PT15M
ACTION:DISPLAY
DESCRIPTION:Reminder
END:VALARM
END:VEVENT
END:VCALENDAR