BEGIN:VCALENDAR
VERSION:2.0
PRODID:-//www.zds.si//iCal Event Maker
X-WR-CALNAME:zds.si
CALSCALE:GREGORIAN
BEGIN:VTIMEZONE
TZID:Europe/Ljubljana
TZURL:http://tzurl.org/zoneinfo-outlook/Europe/Ljubljana
X-LIC-LOCATION:Europe/Ljubljana
BEGIN:DAYLIGHT
TZOFFSETFROM:+0100
TZOFFSETTO:+0200
TZNAME:CEST
DTSTART:19700329T020000
RRULE:FREQ=YEARLY;BYMONTH=3;BYDAY=-1SU
END:DAYLIGHT
BEGIN:STANDARD
TZOFFSETFROM:+0200
TZOFFSETTO:+0100
TZNAME:CET
DTSTART:19701025T030000
RRULE:FREQ=YEARLY;BYMONTH=10;BYDAY=-1SU
END:STANDARD
END:VTIMEZONE
BEGIN:VEVENT
DTSTAMP:20260420T071824
UID:69e5b7203923e@zds.si
DTSTART;TZID="Europe/Ljubljana":20260414T090000
DTEND;TZID="Europe/Ljubljana":20260414T113000
SUMMARY:DDV pri poslovanju s tujino: napake in kako jih popraviti
URL:https://www.zds.si/sl/dogodki/ddv-pri-poslovanju-s-tujino-napake-in-kako-jih-popraviti/
DESCRIPTION:Pri čezmejnem poslovanju z blagom lahko napake pri DDV hitro postanejo sistemske in pomenijo veliko tveganje ob davčnem nadzoru. Na webinarju boste dobili jasen pregled pravil pri določanju kraja obdavčitve, obračunu DDV in pravilnem evidentiranju transakcij. S praktičnimi primeri boste spoznali, kako se izogniti najpogostejšim napakam ter zagotoviti pravilno in varno poslovanje pri mednarodnih dobavah.
LOCATION:WEBINAR 💻
BEGIN:VALARM
TRIGGER:-PT4H
REPEAT:1
DURATION:PT15M
ACTION:DISPLAY
DESCRIPTION:Reminder
END:VALARM
END:VEVENT
END:VCALENDAR