BEGIN:VCALENDAR
VERSION:2.0
PRODID:-//www.zds.si//iCal Event Maker
X-WR-CALNAME:zds.si
CALSCALE:GREGORIAN
BEGIN:VTIMEZONE
TZID:Europe/Ljubljana
TZURL:http://tzurl.org/zoneinfo-outlook/Europe/Ljubljana
X-LIC-LOCATION:Europe/Ljubljana
BEGIN:DAYLIGHT
TZOFFSETFROM:+0100
TZOFFSETTO:+0200
TZNAME:CEST
DTSTART:19700329T020000
RRULE:FREQ=YEARLY;BYMONTH=3;BYDAY=-1SU
END:DAYLIGHT
BEGIN:STANDARD
TZOFFSETFROM:+0200
TZOFFSETTO:+0100
TZNAME:CET
DTSTART:19701025T030000
RRULE:FREQ=YEARLY;BYMONTH=10;BYDAY=-1SU
END:STANDARD
END:VTIMEZONE
BEGIN:VEVENT
DTSTAMP:20260422T021240
UID:69e8127829205@zds.si
DTSTART;TZID="Europe/Ljubljana":20251216T090000
DTEND;TZID="Europe/Ljubljana":20251216T130000
SUMMARY:Davčni obračun DDPO za leto 2025
URL:https://www.zds.si/sl/dogodki/davcni-obracun-ddpo-za-leto-2023/
DESCRIPTION:Na davčni obračun za leto 2025 se pravočasno pripravite!
Davčni obračun za davek od dohodkov pravnih oseb in obračun akontacije dohodnine od dohodka iz dejavnosti za davčno leto 2025 morajo davčni zavezanci predložiti davčnemu organu do 31. marca 2026.
LOCATION:WEBINAR 💻
BEGIN:VALARM
TRIGGER:-PT4H
REPEAT:1
DURATION:PT15M
ACTION:DISPLAY
DESCRIPTION:Reminder
END:VALARM
END:VEVENT
END:VCALENDAR