BEGIN:VCALENDAR
VERSION:2.0
PRODID:-//www.zds.si//iCal Event Maker
X-WR-CALNAME:zds.si
CALSCALE:GREGORIAN
BEGIN:VTIMEZONE
TZID:Europe/Ljubljana
TZURL:http://tzurl.org/zoneinfo-outlook/Europe/Ljubljana
X-LIC-LOCATION:Europe/Ljubljana
BEGIN:DAYLIGHT
TZOFFSETFROM:+0100
TZOFFSETTO:+0200
TZNAME:CEST
DTSTART:19700329T020000
RRULE:FREQ=YEARLY;BYMONTH=3;BYDAY=-1SU
END:DAYLIGHT
BEGIN:STANDARD
TZOFFSETFROM:+0200
TZOFFSETTO:+0100
TZNAME:CET
DTSTART:19701025T030000
RRULE:FREQ=YEARLY;BYMONTH=10;BYDAY=-1SU
END:STANDARD
END:VTIMEZONE
BEGIN:VEVENT
DTSTAMP:20260426T062335
UID:69ed934710f95@zds.si
DTSTART;TZID="Europe/Ljubljana":20190129T090000
DTEND;TZID="Europe/Ljubljana":20190129T130000
SUMMARY:Davčna obravnava dohodkov iz drugega pogodbenega razmerja in poročanje FURS-u
URL:https://www.zds.si/sl/dogodki/davcna-obravnava-dohodkov-iz-drugega-pogodbenega-razmerja-in-porocanje-furs-u/
DESCRIPTION:Namen seminarja je razrešitev vprašanj in dilem, ki se pojavljajo v podjetju ob izplačilu dohodka pogodbenim sodelavcem.
LOCATION:ZDS, Predavalnica – visoko pritličje, Dimičeva 9, 1000 Ljubljana
BEGIN:VALARM
TRIGGER:-PT4H
REPEAT:1
DURATION:PT15M
ACTION:DISPLAY
DESCRIPTION:Reminder
END:VALARM
END:VEVENT
END:VCALENDAR