BEGIN:VCALENDAR
VERSION:2.0
PRODID:-//www.zds.si//iCal Event Maker
X-WR-CALNAME:zds.si
CALSCALE:GREGORIAN
BEGIN:VTIMEZONE
TZID:Europe/Ljubljana
TZURL:http://tzurl.org/zoneinfo-outlook/Europe/Ljubljana
X-LIC-LOCATION:Europe/Ljubljana
BEGIN:DAYLIGHT
TZOFFSETFROM:+0100
TZOFFSETTO:+0200
TZNAME:CEST
DTSTART:19700329T020000
RRULE:FREQ=YEARLY;BYMONTH=3;BYDAY=-1SU
END:DAYLIGHT
BEGIN:STANDARD
TZOFFSETFROM:+0200
TZOFFSETTO:+0100
TZNAME:CET
DTSTART:19701025T030000
RRULE:FREQ=YEARLY;BYMONTH=10;BYDAY=-1SU
END:STANDARD
END:VTIMEZONE
BEGIN:VEVENT
DTSTAMP:20260421T115224
UID:69e748d8a6658@zds.si
DTSTART;TZID="Europe/Ljubljana":20250930T133000
DTEND;TZID="Europe/Ljubljana":20250930T153000
SUMMARY:AI v kadrovanju: Prihranite čas in izboljšajte procese s pomočjo umetne inteligence
URL:https://www.zds.si/sl/dogodki/ai-v-kadrovanju-prihranite-cas-in-izboljsajte-procese-s-pomocjo-umetne-inteligence-2/
DESCRIPTION:Umetna inteligenca v kadrovanju omogoča avtomatizacijo administrativnih nalog, hitrejšo analizo življenjepisov in boljšo selekcijo kandidatov. Na dogodku boste spoznali najboljša AI orodja za HR, pravne in etične vidike uporabe ter praktične načine za optimizacijo procesov. Pridobili boste konkretne rešitve, ki jih lahko takoj implementirate v svoje delo.
LOCATION:WEBINAR 💻
BEGIN:VALARM
TRIGGER:-PT4H
REPEAT:1
DURATION:PT15M
ACTION:DISPLAY
DESCRIPTION:Reminder
END:VALARM
END:VEVENT
END:VCALENDAR